BEGIN:VCALENDAR
VERSION:2.0
PRODID:-//The Crazy Haacks - ECPv5.14.2.1//NONSGML v1.0//EN
CALSCALE:GREGORIAN
METHOD:PUBLISH
X-WR-CALNAME:The Crazy Haacks
X-ORIGINAL-URL:https://thecrazyhaacks.com
X-WR-CALDESC:Eventos para The Crazy Haacks
REFRESH-INTERVAL;VALUE=DURATION:PT1H
X-Robots-Tag:noindex
X-PUBLISHED-TTL:PT1H
BEGIN:VTIMEZONE
TZID:Europe/Madrid
BEGIN:DAYLIGHT
TZOFFSETFROM:+0100
TZOFFSETTO:+0200
TZNAME:CEST
DTSTART:20190331T010000
END:DAYLIGHT
BEGIN:STANDARD
TZOFFSETFROM:+0200
TZOFFSETTO:+0100
TZNAME:CET
DTSTART:20191027T010000
END:STANDARD
END:VTIMEZONE
BEGIN:VEVENT
DTSTART;VALUE=DATE:20191213
DTEND;VALUE=DATE:20191215
DTSTAMP:20260423T201005
CREATED:20200709T054849Z
LAST-MODIFIED:20200709T054849Z
UID:1672-1576198800-1576285199@thecrazyhaacks.com
SUMMARY:Presentación "Asterix el Galo"
DESCRIPTION:Lady Pecas y Món para los amigos acudieron juntas al evento de presentación del libro Asterix y la hija de Vercingetorix celebrado en el Museo de Historia de Madrid. Allí\, pudieron conocer junto con otros influencers la forma de vida y las costumbres de la época romana. \nA continuación puedes ver todo lo que hicieron en el evento:
URL:https://thecrazyhaacks.com/event/presentacion-asterix/
LOCATION:MUSEO DE HISTORIA\, Calle de Fuencarral\, 78\, Madrid\, Madrid\, 28004\, España
CATEGORIES:Lanzamiento,Presentación
ATTACH;FMTTYPE=image/png:https://thecrazyhaacks.com/wp-content/uploads/2020/06/asterix-madrid-eventos.png
END:VEVENT
END:VCALENDAR