BEGIN:VCALENDAR
VERSION:2.0
PRODID:-//The Crazy Haacks - ECPv5.14.2.1//NONSGML v1.0//EN
CALSCALE:GREGORIAN
METHOD:PUBLISH
X-WR-CALNAME:The Crazy Haacks
X-ORIGINAL-URL:https://thecrazyhaacks.com
X-WR-CALDESC:Eventos para The Crazy Haacks
REFRESH-INTERVAL;VALUE=DURATION:PT1H
X-Robots-Tag:noindex
X-PUBLISHED-TTL:PT1H
BEGIN:VTIMEZONE
TZID:Europe/Madrid
BEGIN:DAYLIGHT
TZOFFSETFROM:+0100
TZOFFSETTO:+0200
TZNAME:CEST
DTSTART:20190331T010000
END:DAYLIGHT
BEGIN:STANDARD
TZOFFSETFROM:+0200
TZOFFSETTO:+0100
TZNAME:CET
DTSTART:20191027T010000
END:STANDARD
END:VTIMEZONE
BEGIN:VEVENT
DTSTART;VALUE=DATE:20190209
DTEND;VALUE=DATE:20190211
DTSTAMP:20260424T133532
CREATED:20200612T055122Z
LAST-MODIFIED:20200709T044650Z
UID:1205-1549674000-1549760399@thecrazyhaacks.com
SUMMARY:Meet & Greet Almería
DESCRIPTION:The Crazy Haacks acudió al Roquetas Gaming Show celebrado en Almería. Allí hicieron una firma de libros con miles de FANS\, además de un evento exclusivo con algunos fans donde pudieron conocer y pasar el rato con algunos fans. \nHugo participó en uno de los Torneos de Fortnite celebrados en el mismo evento. \nPasa saber qué pasó\, puedes ver el siguiente vídeo:
URL:https://thecrazyhaacks.com/event/meet-greet-almeria/
LOCATION:ROQUETAS GAMING SHOW\, Calle Joaquín Rodrigo\, Roquetas de Mar\, Almería\, 04740\, España
CATEGORIES:Meet & Greet,Presentación
ATTACH;FMTTYPE=image/png:https://thecrazyhaacks.com/wp-content/uploads/2020/06/miniaturas-eventos-almeria.png
END:VEVENT
END:VCALENDAR