BEGIN:VCALENDAR
VERSION:2.0
PRODID:-//The Crazy Haacks - ECPv5.14.2.1//NONSGML v1.0//EN
CALSCALE:GREGORIAN
METHOD:PUBLISH
X-WR-CALNAME:The Crazy Haacks
X-ORIGINAL-URL:https://thecrazyhaacks.com
X-WR-CALDESC:Eventos para The Crazy Haacks
REFRESH-INTERVAL;VALUE=DURATION:PT1H
X-Robots-Tag:noindex
X-PUBLISHED-TTL:PT1H
BEGIN:VTIMEZONE
TZID:Europe/Madrid
BEGIN:DAYLIGHT
TZOFFSETFROM:+0100
TZOFFSETTO:+0200
TZNAME:CEST
DTSTART:20180325T010000
END:DAYLIGHT
BEGIN:STANDARD
TZOFFSETFROM:+0200
TZOFFSETTO:+0100
TZNAME:CET
DTSTART:20181028T010000
END:STANDARD
END:VTIMEZONE
BEGIN:VEVENT
DTSTART;VALUE=DATE:20180318
DTEND;VALUE=DATE:20180320
DTSTAMP:20260425T061013
CREATED:20200611T134126Z
LAST-MODIFIED:20200709T044009Z
UID:1043-1521334800-1521421199@thecrazyhaacks.com
SUMMARY:Meet&Greet en Marbella
DESCRIPTION:The Crazy Haacks invitaron a 200 fans a ver el preestreno en Marbella de la película de Peter Rabbit. Su madre\, Món para los amigos\, puso voz a uno de los personajes. \nPuedes ver TODO lo que ocurrió en el siguiente vídeo:
URL:https://thecrazyhaacks.com/event/meetgreet-en-marbella/
LOCATION:C. C. LA CAÑADA
CATEGORIES:Meet & Greet,Presentación
ATTACH;FMTTYPE=image/png:https://thecrazyhaacks.com/wp-content/uploads/2020/06/quedad-marbella-tch.png
END:VEVENT
END:VCALENDAR